BEGIN:VCALENDAR
VERSION:2.0
PRODID:-//schmitz. die Buchhandlung - ECPv6.15.13//NONSGML v1.0//EN
CALSCALE:GREGORIAN
METHOD:PUBLISH
X-ORIGINAL-URL:https://www.schmitzbuch.de
X-WR-CALDESC:Veranstaltungen für schmitz. die Buchhandlung
REFRESH-INTERVAL;VALUE=DURATION:PT1H
X-Robots-Tag:noindex
X-PUBLISHED-TTL:PT1H
BEGIN:VTIMEZONE
TZID:Europe/Helsinki
BEGIN:DAYLIGHT
TZOFFSETFROM:+0200
TZOFFSETTO:+0300
TZNAME:EEST
DTSTART:20240331T010000
END:DAYLIGHT
BEGIN:STANDARD
TZOFFSETFROM:+0300
TZOFFSETTO:+0200
TZNAME:EET
DTSTART:20241027T010000
END:STANDARD
BEGIN:DAYLIGHT
TZOFFSETFROM:+0200
TZOFFSETTO:+0300
TZNAME:EEST
DTSTART:20250330T010000
END:DAYLIGHT
BEGIN:STANDARD
TZOFFSETFROM:+0300
TZOFFSETTO:+0200
TZNAME:EET
DTSTART:20251026T010000
END:STANDARD
BEGIN:DAYLIGHT
TZOFFSETFROM:+0200
TZOFFSETTO:+0300
TZNAME:EEST
DTSTART:20260329T010000
END:DAYLIGHT
BEGIN:STANDARD
TZOFFSETFROM:+0300
TZOFFSETTO:+0200
TZNAME:EET
DTSTART:20261025T010000
END:STANDARD
END:VTIMEZONE
BEGIN:VEVENT
DTSTART;TZID=Europe/Helsinki:20250927T160000
DTEND;TZID=Europe/Helsinki:20250927T173000
DTSTAMP:20260422T163828
CREATED:20250601T142452Z
LAST-MODIFIED:20250601T142812Z
UID:9329-1758988800-1758994200@www.schmitzbuch.de
SUMMARY:Ritter Rost live in Werden!
DESCRIPTION:Ein ganz besonderes Ereignis für kleine und große Bücherfreunde:\nJörg Hilbert\, der Erfinder von Ritter Rost\, kommt endlich nach Werden – und das wollen wir feiern! Freut euch auf neue Vorlesegeschichten\, Musik\, lustige Überraschungen und natürlich auf den kleinen Drachen Koks\, Burgfräulein Bö und den schrägen Ritter aus Schrott. Ein Nachmittag voller Geschichten\, Musik und guter Laune – für die ganze Familie! \nJörg Hilbert\nRitter Rost. Vorlesegeschichten \nSamstag\, 27. September 2025\nForum des Mariengymnasiums\nBrückstr. 108\, 45239 Essen\nEinlass 15.30 Uhr\nBeginn 16.00 Uhr\nEintritt Kinder 8\,– € | Erwachsene 14\,– €
URL:https://www.schmitzbuch.de/event/ritter-rost-live-in-werden/
LOCATION:Marienforum\, Brückstraße 108\, Essen\, 45239\, Deutschland
CATEGORIES:Lesung
ATTACH;FMTTYPE=image/png:https://www.schmitzbuch.de/wp-content/uploads/2025/06/joerg-hilbert.png
ORGANIZER;CN="schmitz junior":MAILTO:info@schmitzjunior.de
END:VEVENT
END:VCALENDAR