BEGIN:VCALENDAR
VERSION:2.0
PRODID:-//schmitz. die Buchhandlung - ECPv6.15.13//NONSGML v1.0//EN
CALSCALE:GREGORIAN
METHOD:PUBLISH
X-WR-CALNAME:schmitz. die Buchhandlung
X-ORIGINAL-URL:https://www.schmitzbuch.de
X-WR-CALDESC:Veranstaltungen für schmitz. die Buchhandlung
REFRESH-INTERVAL;VALUE=DURATION:PT1H
X-Robots-Tag:noindex
X-PUBLISHED-TTL:PT1H
BEGIN:VTIMEZONE
TZID:Europe/Helsinki
BEGIN:DAYLIGHT
TZOFFSETFROM:+0200
TZOFFSETTO:+0300
TZNAME:EEST
DTSTART:20240331T010000
END:DAYLIGHT
BEGIN:STANDARD
TZOFFSETFROM:+0300
TZOFFSETTO:+0200
TZNAME:EET
DTSTART:20241027T010000
END:STANDARD
BEGIN:DAYLIGHT
TZOFFSETFROM:+0200
TZOFFSETTO:+0300
TZNAME:EEST
DTSTART:20250330T010000
END:DAYLIGHT
BEGIN:STANDARD
TZOFFSETFROM:+0300
TZOFFSETTO:+0200
TZNAME:EET
DTSTART:20251026T010000
END:STANDARD
BEGIN:DAYLIGHT
TZOFFSETFROM:+0200
TZOFFSETTO:+0300
TZNAME:EEST
DTSTART:20260329T010000
END:DAYLIGHT
BEGIN:STANDARD
TZOFFSETFROM:+0300
TZOFFSETTO:+0200
TZNAME:EET
DTSTART:20261025T010000
END:STANDARD
END:VTIMEZONE
BEGIN:VEVENT
DTSTART;TZID=Europe/Helsinki:20251213T200000
DTEND;TZID=Europe/Helsinki:20251213T220000
DTSTAMP:20260422T123807
CREATED:20250601T165839Z
LAST-MODIFIED:20250601T165839Z
UID:9352-1765656000-1765663200@www.schmitzbuch.de
SUMMARY:Jacob Karlzon  Winter Stories  Solo Piano
DESCRIPTION:Am 13. Dezember 2025 ist es endlich wieder so weit: Jacob Karlzon kommt zurück nach Werden. Der schwedische Ausnahme-Pianist war bereits zweimal zu Gast bei unserer Reihe Jazz & so – einmal solo\, einmal im Duo mit der großartigen Viktoria Tolstoy. Seitdem ist viel Zeit vergangen. Umso mehr freuen wir uns\, dass er mit seinem aktuellen Programm Winter Stories nun ein drittes Mal den Weg zu uns findet – ganz intim\, ganz reduziert: solo piano. \nJacob Karlzon ist ein Erzähler am Klavier – poetisch\, kraftvoll\, mal nachdenklich\, mal verspielt. Mit seinem feinen Gespür für Atmosphäre und Dynamik entführt er sein Publikum in klangvolle Winterlandschaften voller Melancholie\, Licht und Wärme. Ein musikalischer Abend wie eine Umarmung. \nUnd ganz persönlich: Ich freue mich auf ein Wiedersehen mit einem wunderbaren Künstler und einem Menschen\, der uns über all die Jahre immer verbunden geblieben ist. \nWinter Stories – Jacob Karlzon solo piano \nSamstag\, 13. Dezember 2025\nBürgermeisterhaus Essen-Werden\nHeckstraße 105\, 45239 Essen\nEinlass 19.00 Uhr\nBeginn 20.00 Uhr \nEintritt 32\,– €\nKartenbestellung: reservierung@schmitzbuch.de
URL:https://www.schmitzbuch.de/event/jacob-karlzon-winter-stories-solo-piano/
LOCATION:Bürgermeisterhaus Essen\, Heckstraße 105\, Essen\, 45239\, Deutschland
CATEGORIES:Konzert
ATTACH;FMTTYPE=image/jpeg:https://www.schmitzbuch.de/wp-content/uploads/2025/06/jacob-karlzon-2023-7-www-christophbombart-photgraphy-com.jpeg
ORGANIZER;CN="schmitz. die Buchhandlung":MAILTO:info@schmitzbuch.de
END:VEVENT
END:VCALENDAR